BEGIN:VCALENDAR
VERSION:2.0
PRODID:-//CERTEX USA - ECPv6.15.20//NONSGML v1.0//EN
CALSCALE:GREGORIAN
METHOD:PUBLISH
X-ORIGINAL-URL:https://www.certex.com
X-WR-CALDESC:Events for CERTEX USA
REFRESH-INTERVAL;VALUE=DURATION:PT1H
X-Robots-Tag:noindex
X-PUBLISHED-TTL:PT1H
BEGIN:VTIMEZONE
TZID:America/Phoenix
BEGIN:STANDARD
TZOFFSETFROM:-0700
TZOFFSETTO:-0700
TZNAME:MST
DTSTART:20250101T000000
END:STANDARD
END:VTIMEZONE
BEGIN:VEVENT
DTSTART;TZID=America/Phoenix:20260310T080000
DTEND;TZID=America/Phoenix:20260311T160000
DTSTAMP:20260421T064725
CREATED:20251211T181630Z
LAST-MODIFIED:20260113T143405Z
UID:268878-1773129600-1773244800@www.certex.com
SUMMARY:Competent Person at Heights
DESCRIPTION:Cost: \n• $1000 per person. (Call Sandra at 520-889-0005 for group rate. Minimum of 5 people per fall protection training) \n  \nFor other trainings\, Call Sandra at 520-889-0005.
URL:https://www.certex.com/event/competent-person-at-heights-16/
LOCATION:Tucson\, AZ – CERTEX USA Training Center\, 6221 S Tucson Blvd\, Tucson\, AZ\, 85706\, United States
CATEGORIES:Competent Person at Heights,Fall Protection
ATTACH;FMTTYPE=image/jpeg:https://www.certex.com/wp-content/uploads/2023/12/CompetentPersonatHeights.jpg
END:VEVENT
END:VCALENDAR